BEGIN:VCALENDAR
VERSION:2.0
PRODID:-//Kalamia Cane Growers &amp; Kalagro - ECPv4.8.2//NONSGML v1.0//EN
CALSCALE:GREGORIAN
METHOD:PUBLISH
X-WR-CALNAME:Kalamia Cane Growers &amp; Kalagro
X-ORIGINAL-URL:https://www.kalagro.com.au
X-WR-CALDESC:Events for Kalamia Cane Growers &amp; Kalagro
BEGIN:VEVENT
DTSTART;TZID=Australia/Brisbane:20200204T100000
DTEND;TZID=Australia/Brisbane:20200204T120000
DTSTAMP:20200227T025054
CREATED:20200124T033731Z
LAST-MODIFIED:20200124T035809Z
UID:11611-1580810400-1580817600@www.kalagro.com.au
SUMMARY:KCGO GROWER MEMBER MEETING
DESCRIPTION:KCGO GROWER MEMBER MEETING \nI refer to KCGO post to webpage on 16th December re. unification update wherein members were advised of intention of KCGO to hold grower meeting towards the end of January. \nThis meeting has now been scheduled. \nWhen – Tuesday 4th February\nWhere – PCYC 164 MacMillan Street Ayr\nTime – 10am -12.00pm \nMeeting will provide summary of what has been previously raised at combined collective grower information sessions for those who were unable to attend during the season\, as well as seeking feedback on various issues eg. but not limited to: \n• levy options\,\n• asset/capital contributions\,\n• third party consultant\n• additional services members consider of importance in a new entity eg. increased focus on advocacy\nIt would be appreciated if you could indicate your intention to attend as well as number of representatives that will be attending on behalf of member by RSVP our office on 4783 1312 or text to 0447 128 312. \nLes Elphinstone\nManager KCGO \n
URL:https://www.kalagro.com.au/event/kcgo-grower-member-meeting/
LOCATION:Burdekin PCYC\, 164 MacMillan Street\, Ayr\, Queensland\, 4806\, Australia
END:VEVENT
BEGIN:VEVENT
DTSTART;TZID=Australia/Brisbane:20200205T080000
DTEND;TZID=Australia/Brisbane:20200205T170000
DTSTAMP:20200227T025054
CREATED:20200112T222744Z
LAST-MODIFIED:20200112T222744Z
UID:11524-1580889600-1580922000@www.kalagro.com.au
SUMMARY:Soil Health & Your Wealth Workshop
DESCRIPTION:
URL:https://www.kalagro.com.au/event/soil-health-your-wealth-workshop/
LOCATION:Burdekin PCYC\, 164 MacMillan Street\, Ayr\, Queensland\, 4806\, Australia
END:VEVENT
BEGIN:VEVENT
DTSTART;TZID=Australia/Brisbane:20200218T100000
DTEND;TZID=Australia/Brisbane:20200218T143000
DTSTAMP:20200227T025054
CREATED:20200214T021703Z
LAST-MODIFIED:20200214T021703Z
UID:11746-1582020000-1582036200@www.kalagro.com.au
SUMMARY:DAF - Burdekin Grains - Introduction to Storage
DESCRIPTION: \n(click to view full size) \n
URL:https://www.kalagro.com.au/event/daf-burdekin-grains-introduction-to-storage/
LOCATION:AYR SHOWGROUNDS\, BRUCE HIGHWAY\, AYR 
END:VEVENT
BEGIN:VEVENT
DTSTART;TZID=Australia/Brisbane:20200219T100000
DTEND;TZID=Australia/Brisbane:20200219T120000
DTSTAMP:20200227T025054
CREATED:20200214T021833Z
LAST-MODIFIED:20200214T021834Z
UID:11748-1582106400-1582113600@www.kalagro.com.au
SUMMARY:DAF - Burdekin Grains - Advanced Storage Workshop
DESCRIPTION: \n(click to view full size) \n
URL:https://www.kalagro.com.au/event/daf-burdekin-grains-advanced-storage-workshop/
LOCATION:AYR SHOWGROUNDS\, BRUCE HIGHWAY\, AYR 
END:VEVENT
BEGIN:VEVENT
DTSTART;TZID=Australia/Brisbane:20200228T120000
DTEND;TZID=Australia/Brisbane:20200228T140000
DTSTAMP:20200227T025054
CREATED:20200214T021457Z
LAST-MODIFIED:20200214T021458Z
UID:11744-1582891200-1582898400@www.kalagro.com.au
SUMMARY:SRA - CEO Listening Tour
DESCRIPTION:SRA – CEO Listening Tour \n \n(click to view full size) \n
URL:https://www.kalagro.com.au/event/sra-ceo-listening-tour/
LOCATION:Burdekin PCYC\, 164 MacMillan Street\, Ayr\, Queensland\, 4806\, Australia
END:VEVENT
END:VCALENDAR